BEGIN:VCALENDAR
VERSION:2.0
PRODID:-//Tukios.com/
BEGIN:VEVENT
UID:39668d77-5cd4-4ba3-a007-a0906f14f1e2@www.drollinsfuneralhome.com
DTSTAMP:20260420T230206Z
DTSTART:20260421T210000Z
DTEND:20260421T230000Z
SUMMARY:Visitation
DESCRIPTION:
URL:https://www.drollinsfuneralhome.com/obituaries/jason-james
LOCATION: 409 Sligo Street  Woodville MS 39669
GEO:31.1011796;-91.3029682
END:VEVENT
END:VCALENDAR