BEGIN:VCALENDAR
VERSION:2.0
PRODID:-//Tukios.com/
BEGIN:VEVENT
UID:26408581-b1de-47f7-b02e-9e19fb25fc6d@www.drollinsfuneralhome.com
DTSTAMP:20260420T225927Z
DTSTART:20260422T150000Z
DTEND:20260422T160000Z
SUMMARY:Viewing
DESCRIPTION:
URL:https://www.drollinsfuneralhome.com/obituaries/jason-james
LOCATION: 9696 Pinckneyville Rd  Woodville MS 39669
GEO:31.0965225;-91.4629801
END:VEVENT
END:VCALENDAR