BEGIN:VCALENDAR
VERSION:2.0
PRODID:-//Tukios.com/
BEGIN:VEVENT
UID:cc685f52-f072-4011-a7c4-069efe521396@www.drollinsfuneralhome.com
DTSTAMP:20260420T225459Z
DTSTART:20260422T160000Z
DTEND:20260422T180000Z
SUMMARY:Funeral Service
DESCRIPTION:
URL:https://www.drollinsfuneralhome.com/obituaries/jason-james
LOCATION: 9696 Pinckneyville Rd  Woodville MS 39669
GEO:31.0965225;-91.4629801
END:VEVENT
END:VCALENDAR